BEGIN:VCALENDAR
VERSION:2.0
PRODID:-//Kérjük adója 1%-ával támogassa egyesületünket  Adószám: 19918895-1-05  - ECPv6.15.17//NONSGML v1.0//EN
CALSCALE:GREGORIAN
METHOD:PUBLISH
X-WR-CALNAME:Kérjük adója 1%-ával támogassa egyesületünket  Adószám: 19918895-1-05 
X-ORIGINAL-URL:https://tiszalucihorgasz.hu
X-WR-CALDESC:Események Kérjük adója 1%-ával támogassa egyesületünket  Adószám: 19918895-1-05 
REFRESH-INTERVAL;VALUE=DURATION:PT1H
X-Robots-Tag:noindex
X-PUBLISHED-TTL:PT1H
BEGIN:VTIMEZONE
TZID:Europe/Budapest
BEGIN:DAYLIGHT
TZOFFSETFROM:+0100
TZOFFSETTO:+0200
TZNAME:CEST
DTSTART:20210328T010000
END:DAYLIGHT
BEGIN:STANDARD
TZOFFSETFROM:+0200
TZOFFSETTO:+0100
TZNAME:CET
DTSTART:20211031T010000
END:STANDARD
BEGIN:DAYLIGHT
TZOFFSETFROM:+0100
TZOFFSETTO:+0200
TZNAME:CEST
DTSTART:20220327T010000
END:DAYLIGHT
BEGIN:STANDARD
TZOFFSETFROM:+0200
TZOFFSETTO:+0100
TZNAME:CET
DTSTART:20221030T010000
END:STANDARD
BEGIN:DAYLIGHT
TZOFFSETFROM:+0100
TZOFFSETTO:+0200
TZNAME:CEST
DTSTART:20230326T010000
END:DAYLIGHT
BEGIN:STANDARD
TZOFFSETFROM:+0200
TZOFFSETTO:+0100
TZNAME:CET
DTSTART:20231029T010000
END:STANDARD
END:VTIMEZONE
BEGIN:VEVENT
DTSTART;TZID=Europe/Budapest:20221105T073000
DTEND;TZID=Europe/Budapest:20221105T123000
DTSTAMP:20260422T173557
CREATED:20220227T113413Z
LAST-MODIFIED:20221102T165435Z
UID:1667-1667633400-1667651400@tiszalucihorgasz.hu
SUMMARY:XII. Tiszalúci Pergető Kupa 2022. A Tiszalúci Holt-Tiszán
DESCRIPTION:2022-XII.-Tiszalúci-Pergető-Kupa-Versenykiírás
URL:https://tiszalucihorgasz.hu/index.php/event/xii-tiszaluci-pergeto-kupa-2022-a-tiszaluci-holt-tiszan/
LOCATION:Bárányszeg\, Piac utca\, Tiszalúc\, Magyarország
CATEGORIES:Horgászverseny
END:VEVENT
END:VCALENDAR